BEGIN:VCALENDAR
VERSION:2.0
PRODID:spatie/icalendar-generator
DESCRIPTION:Events from Our Lummi Island Community
X-WR-CALDESC:Events from Our Lummi Island Community
REFRESH-INTERVAL;VALUE=DURATION:PT1440M
X-PUBLISHED-TTL:PT1440M
BEGIN:VTIMEZONE
TZID:America/Los_Angeles
BEGIN:STANDARD
DTSTART:20251102T020000Z
TZOFFSETFROM:-0700
TZOFFSETTO:-0800
END:STANDARD
BEGIN:DAYLIGHT
DTSTART:20260308T020000Z
TZOFFSETFROM:-0800
TZOFFSETTO:-0700
END:DAYLIGHT
BEGIN:STANDARD
DTSTART:20261101T020000Z
TZOFFSETFROM:-0700
TZOFFSETTO:-0800
END:STANDARD
END:VTIMEZONE
BEGIN:VTIMEZONE
TZID:UTC
BEGIN:STANDARD
DTSTART:20250726T140517Z
TZOFFSETFROM:+0000
TZOFFSETTO:+0000
END:STANDARD
END:VTIMEZONE
BEGIN:VEVENT
UID:25553-280
DTSTAMP:20260422T140517Z
SUMMARY:Kid's Dance with Cassa Cole
LOCATION:Congregational Church - Social Hall (Downstairs) 3913 Legoe Bay Rd
  Downstairs Lummi Island WA 98262
ORGANIZER;CN=Tark Henderson:MAILTO:Admin@OurLummiIsland.org
RRULE:FREQ=WEEKLY;UNTIL=20261227T000000Z
DTSTART;TZID=America/Los_Angeles:20260501T100000
DTEND;TZID=America/Los_Angeles:20260501T110000
X-ALT-DESC;FMTTYPE=TEXT/HTML:Join LIH&amp;amp\;W and instructor Cassa Cole ever
 y Friday for a joyful\, one-hour parent-child movement class for ages 0 to
  Pre-K. We begin with a cozy floor circle featuring welcome songs and name
 s\, then transition into gentle movement\, guided dances\, and interactive
  play with props like scarves and rhythm sticks. The class includes both h
 igh-energy dancing&amp;hellip\;
CATEGORIES:Health &amp; Wellness
URL;VALUE=URI:https://ourlummiisland.org/herald/community-calendar/?mc_id=2
 5553&#038;vcal=25553
METHOD:PUBLISH
END:VEVENT
END:VCALENDAR