BEGIN:VCALENDAR
VERSION:2.0
PRODID:spatie/icalendar-generator
DESCRIPTION:Events from Our Lummi Island Community
X-WR-CALDESC:Events from Our Lummi Island Community
REFRESH-INTERVAL;VALUE=DURATION:PT1440M
X-PUBLISHED-TTL:PT1440M
BEGIN:VTIMEZONE
TZID:America/Los_Angeles
BEGIN:STANDARD
DTSTART:20251102T020000Z
TZOFFSETFROM:-0700
TZOFFSETTO:-0800
END:STANDARD
BEGIN:DAYLIGHT
DTSTART:20260308T020000Z
TZOFFSETFROM:-0800
TZOFFSETTO:-0700
END:DAYLIGHT
END:VTIMEZONE
BEGIN:VTIMEZONE
TZID:UTC
BEGIN:STANDARD
DTSTART:20250724T090201Z
TZOFFSETFROM:+0000
TZOFFSETTO:+0000
END:STANDARD
END:VTIMEZONE
BEGIN:VEVENT
UID:24022-173
DTSTAMP:20260420T090201Z
SUMMARY:Secrets of Dying Well
LOCATION:Library -  Hanson Room 2144 S Nugent Rd  Lummi Island WA 98262
ORGANIZER;CN=Tark Henderson:MAILTO:Admin@OurLummiIsland.org
DTSTART;TZID=America/Los_Angeles:20260303T140000
DTEND;TZID=America/Los_Angeles:20260303T153000
X-ALT-DESC;FMTTYPE=TEXT/HTML:The secrets to dying well lie in understanding
  your choices\, having your wishes known\, tapping into local resources\, 
 and making sure those wishes are documented and accessible when it matters
  most. Join local end-of-life planning consultants for an open\, honest co
 nversation about what it means to die well—and live with intention. You 
 will be guided&amp;hellip\;
CATEGORIES:Island Library
URL;VALUE=URI:https://ourlummiisland.org/herald/community-calendar/?mc_id=2
 4022&#038;vcal=24022
METHOD:PUBLISH
END:VEVENT
END:VCALENDAR