BEGIN:VCALENDAR
VERSION:2.0
PRODID:spatie/icalendar-generator
DESCRIPTION:Events from Our Lummi Island Community
X-WR-CALDESC:Events from Our Lummi Island Community
REFRESH-INTERVAL;VALUE=DURATION:PT1440M
X-PUBLISHED-TTL:PT1440M
BEGIN:VTIMEZONE
TZID:America/Los_Angeles
BEGIN:STANDARD
DTSTART:20251102T020000Z
TZOFFSETFROM:-0700
TZOFFSETTO:-0800
END:STANDARD
BEGIN:DAYLIGHT
DTSTART:20260308T020000Z
TZOFFSETFROM:-0800
TZOFFSETTO:-0700
END:DAYLIGHT
BEGIN:STANDARD
DTSTART:20261101T020000Z
TZOFFSETFROM:-0700
TZOFFSETTO:-0800
END:STANDARD
END:VTIMEZONE
BEGIN:VTIMEZONE
TZID:UTC
BEGIN:STANDARD
DTSTART:20250724T095024Z
TZOFFSETFROM:+0000
TZOFFSETTO:+0000
END:STANDARD
END:VTIMEZONE
BEGIN:VEVENT
UID:21297-64
DTSTAMP:20260420T095024Z
SUMMARY:Emergency Siren Test - Do not call 911
LOCATION:Island Wide
ORGANIZER;CN=Tark Henderson:MAILTO:Admin@OurLummiIsland.org
RRULE:FREQ=MONTHLY;BYDAY=1MO;UNTIL=20440704T000000Z
DTSTART;TZID=America/Los_Angeles:20260601T120000
DTEND;TZID=America/Los_Angeles:20260601T130000
X-ALT-DESC;FMTTYPE=TEXT/HTML:The Whatcom County Tsunami / Emergency Warning
  system is tested on the first Monday of each month at about 12 Noon.  Th
 e closest siren is located at the Lummi Bay Market across from the Goosebe
 rry dock. In an emergency there will be a distinct wailing siren followed 
 by detailed voice directions. 
CATEGORIES:Fire Dept
URL;VALUE=URI:https://ourlummiisland.org/herald/community-calendar/?mc_id=2
 1297&#038;vcal=21297
METHOD:PUBLISH
END:VEVENT
END:VCALENDAR